BEGIN:VCALENDAR
VERSION:2.0
PRODID:-//Public Affairs Foundation - ECPv6.15.17.1//NONSGML v1.0//EN
CALSCALE:GREGORIAN
METHOD:PUBLISH
X-WR-CALNAME:Public Affairs Foundation
X-ORIGINAL-URL:https://pafglobal.org
X-WR-CALDESC:Events for Public Affairs Foundation
REFRESH-INTERVAL;VALUE=DURATION:PT1H
X-Robots-Tag:noindex
X-PUBLISHED-TTL:PT1H
BEGIN:VTIMEZONE
TZID:UTC
BEGIN:STANDARD
TZOFFSETFROM:+0000
TZOFFSETTO:+0000
TZNAME:UTC
DTSTART:20200101T000000
END:STANDARD
END:VTIMEZONE
BEGIN:VEVENT
DTSTART;VALUE=DATE:20210922
DTEND;VALUE=DATE:20210923
DTSTAMP:20260424T060444
CREATED:20211007T103334Z
LAST-MODIFIED:20211007T103512Z
UID:2860-1632351600-1632437999@pafglobal.org
SUMMARY:Consultation Meeting: Identify Enforcement Challenges of the Motor Vehicles (Amendment) Act\, 2019
DESCRIPTION:
URL:https://pafglobal.org/event/consultation-meeting-identify-enforcement-challenges-of-the-motor-vehicles-amendment-act-2019/
LOCATION:IASOA\, Infantry Road\, Bengaluru
CATEGORIES:Training
END:VEVENT
END:VCALENDAR